BEGIN:VCALENDAR
VERSION:2.0
PRODID:-//Plone.org//NONSGML plone.app.event//EN
X-WR-TIMEZONE:Europe/Rome
BEGIN:VEVENT
SUMMARY:Statistics & Economics Research Seminar: Anna Simoni (CREST\, CNRS
 )
DTSTART;TZID=Europe/Rome;VALUE=DATE-TIME:20231027T150000
DTEND;TZID=Europe/Rome;VALUE=DATE-TIME:20231027T170000
DTSTAMP;VALUE=DATE-TIME:20260420T205646Z
UID:4b7e05e5320740afba7b3abdeb92ce95@dse.unibo.it
CREATED;VALUE=DATE-TIME:20231023T061648Z
DESCRIPTION:Title: "Bayesian Bi-level Sparse Group Regressions for Macroec
 onomic Forecasting"
LAST-MODIFIED;VALUE=DATE-TIME:20231023T061734Z
URL:https://dse.unibo.it/it/eventi/statistics-economics-research-seminar-a
 nna-simoni-crest-cnrs
END:VEVENT
BEGIN:VTIMEZONE
TZID:Europe/Rome
X-LIC-LOCATION:Europe/Rome
BEGIN:DAYLIGHT
DTSTART;VALUE=DATE-TIME:20230326T030000
TZNAME:CEST
TZOFFSETFROM:+0100
TZOFFSETTO:+0200
END:DAYLIGHT
END:VTIMEZONE
END:VCALENDAR
