BEGIN:VCALENDAR
VERSION:2.0
PRODID:-//Plone.org//NONSGML plone.app.event//EN
X-WR-TIMEZONE:Europe/Rome
BEGIN:VEVENT
SUMMARY:Peter Carr Seminar Series: Pasquale Cirillo (ZHAW)
DTSTART;TZID=Europe/Rome;VALUE=DATE-TIME:20240419T143000
DTEND;TZID=Europe/Rome;VALUE=DATE-TIME:20240419T153000
DTSTAMP;VALUE=DATE-TIME:20260421T140402Z
UID:02b9b9fa329c4246a60c9b7818d26323@dse.unibo.it
CREATED;VALUE=DATE-TIME:20240328T075610Z
DESCRIPTION:Title: "Dealing with Apparently Infinite Mean Phenomena"
LAST-MODIFIED;VALUE=DATE-TIME:20240419T064638Z
URL:https://dse.unibo.it/it/eventi/peter-carr-seminar-series-pasquale-ciri
 llo-zhaw
END:VEVENT
BEGIN:VTIMEZONE
TZID:Europe/Rome
X-LIC-LOCATION:Europe/Rome
BEGIN:DAYLIGHT
DTSTART;VALUE=DATE-TIME:20240331T030000
TZNAME:CEST
TZOFFSETFROM:+0100
TZOFFSETTO:+0200
END:DAYLIGHT
END:VTIMEZONE
END:VCALENDAR
