BEGIN:VCALENDAR
VERSION:2.0
PRODID:-//Plone.org//NONSGML plone.app.event//EN
X-WR-TIMEZONE:Europe/Rome
BEGIN:VEVENT
SUMMARY:Lectio Magistralis DSE e Dottorato ad Honorem\, Oliver Hart (Harva
 rd University)
DTSTART;TZID=Europe/Rome;VALUE=DATE-TIME:20180530T163000
DTEND;TZID=Europe/Rome;VALUE=DATE-TIME:20180530T190000
DTSTAMP;VALUE=DATE-TIME:20260421T180218Z
UID:56fb5777ba1946f4a54a395d738e6b25@dse.unibo.it
CREATED;VALUE=DATE-TIME:20180426T044753Z
DESCRIPTION:DSE Annual Lecture: Does Serving Shareholders Mean Putting Pro
 fit Above All Else?
LAST-MODIFIED;VALUE=DATE-TIME:20180723T113518Z
URL:https://dse.unibo.it/it/eventi/lectio-magistralis-dse-e-dottorato-ad-h
 onorem-oliver-hart-harvard-university
END:VEVENT
BEGIN:VTIMEZONE
TZID:Europe/Rome
X-LIC-LOCATION:Europe/Rome
BEGIN:DAYLIGHT
DTSTART;VALUE=DATE-TIME:20180325T030000
TZNAME:CEST
TZOFFSETFROM:+0100
TZOFFSETTO:+0200
END:DAYLIGHT
END:VTIMEZONE
END:VCALENDAR
