BEGIN:VCALENDAR
VERSION:2.0
PRODID:-//Plone.org//NONSGML plone.app.event//EN
X-WR-TIMEZONE:Europe/Rome
BEGIN:VEVENT
SUMMARY:Junior Research Seminar: Enrico Miglino (UCL)
DTSTART;TZID=Europe/Rome;VALUE=DATE-TIME:20230119T120000
DTEND;TZID=Europe/Rome;VALUE=DATE-TIME:20230119T131500
DTSTAMP;VALUE=DATE-TIME:20260419T182232Z
UID:5cd2566482454d699a1274be8c6e54c5@dse.unibo.it
CREATED;VALUE=DATE-TIME:20221221T113012Z
DESCRIPTION:Title: "Parliamentary Pensions and Government Stability. Can E
 conomic Incentives 'Transform' MP's Votes?"
LAST-MODIFIED;VALUE=DATE-TIME:20221221T113101Z
URL:https://dse.unibo.it/it/eventi/junior-research-seminar-enrico-miglino-
 ucl
END:VEVENT
BEGIN:VTIMEZONE
TZID:Europe/Rome
X-LIC-LOCATION:Europe/Rome
BEGIN:STANDARD
DTSTART;VALUE=DATE-TIME:20221030T020000
TZNAME:CET
TZOFFSETFROM:+0200
TZOFFSETTO:+0100
END:STANDARD
END:VTIMEZONE
END:VCALENDAR
