BEGIN:VCALENDAR
VERSION:2.0
PRODID:-//Plone.org//NONSGML plone.app.event//EN
X-WR-TIMEZONE:Europe/Rome
BEGIN:VEVENT
SUMMARY:International and Spatial Economics Workshop: Despoina Balouktsi
DTSTART;TZID=Europe/Rome;VALUE=DATE-TIME:20240917T141500
DTEND;TZID=Europe/Rome;VALUE=DATE-TIME:20240917T153000
DTSTAMP;VALUE=DATE-TIME:20260419T224041Z
UID:63f42ce003fc437d9674cfca7d0ed539@dse.unibo.it
CREATED;VALUE=DATE-TIME:20240912T082542Z
DESCRIPTION:Title: "International Trade and Artificial Intelligence: Evide
 nce from India"
LAST-MODIFIED;VALUE=DATE-TIME:20240912T082601Z
URL:https://dse.unibo.it/it/eventi/international-and-spatial-economics-wor
 kshop-despoina-balouktsi
END:VEVENT
BEGIN:VTIMEZONE
TZID:Europe/Rome
X-LIC-LOCATION:Europe/Rome
BEGIN:DAYLIGHT
DTSTART;VALUE=DATE-TIME:20240331T030000
TZNAME:CEST
TZOFFSETFROM:+0100
TZOFFSETTO:+0200
END:DAYLIGHT
END:VTIMEZONE
END:VCALENDAR
