BEGIN:VCALENDAR
VERSION:2.0
PRODID:-//Plone.org//NONSGML plone.app.event//EN
X-WR-TIMEZONE:Europe/Rome
BEGIN:VEVENT
SUMMARY:Internal Seminar: Jeremy Boccanfuso
DTSTART;TZID=Europe/Rome;VALUE=DATE-TIME:20241218T130000
DTEND;TZID=Europe/Rome;VALUE=DATE-TIME:20241218T140000
DTSTAMP;VALUE=DATE-TIME:20260421T110500Z
UID:1088bce9a9da45dab57828f8f1249b6c@dse.unibo.it
CREATED;VALUE=DATE-TIME:20241210T130041Z
DESCRIPTION:Title: "Uncovering attention heterogeneity"
LAST-MODIFIED;VALUE=DATE-TIME:20241210T130152Z
URL:https://dse.unibo.it/it/eventi/internal-seminar-jeremy-boccanfuso-18-1
 2-2024
END:VEVENT
BEGIN:VTIMEZONE
TZID:Europe/Rome
X-LIC-LOCATION:Europe/Rome
BEGIN:STANDARD
DTSTART;VALUE=DATE-TIME:20241027T020000
TZNAME:CET
TZOFFSETFROM:+0200
TZOFFSETTO:+0100
END:STANDARD
END:VTIMEZONE
END:VCALENDAR
