BEGIN:VCALENDAR
VERSION:2.0
PRODID:-//Plone.org//NONSGML plone.app.event//EN
X-WR-TIMEZONE:Europe/Rome
BEGIN:VEVENT
SUMMARY:Interested in a Master in Economics?
DTSTART;TZID=Europe/Rome;VALUE=DATE-TIME:20221202T130000
DTEND;TZID=Europe/Rome;VALUE=DATE-TIME:20221202T140000
DTSTAMP;VALUE=DATE-TIME:20260419T152137Z
UID:bcb02fe8041b49a3b4b8fe055874b6ba@dse.unibo.it
CREATED;VALUE=DATE-TIME:20221118T091251Z
DESCRIPTION:Find out more about our new degree programs in Bologna
LAST-MODIFIED;VALUE=DATE-TIME:20221118T092350Z
URL:https://dse.unibo.it/it/eventi/interested-in-a-master-in-economics
END:VEVENT
BEGIN:VTIMEZONE
TZID:Europe/Rome
X-LIC-LOCATION:Europe/Rome
BEGIN:STANDARD
DTSTART;VALUE=DATE-TIME:20221030T020000
TZNAME:CET
TZOFFSETFROM:+0200
TZOFFSETTO:+0100
END:STANDARD
END:VTIMEZONE
END:VCALENDAR
