BEGIN:VCALENDAR
VERSION:2.0
PRODID:-//Plone.org//NONSGML plone.app.event//EN
X-WR-TIMEZONE:Europe/Rome
BEGIN:VEVENT
SUMMARY:Economic History Reading Group: Elena Korchmina
DTSTART;TZID=Europe/Rome;VALUE=DATE-TIME:20230426T140000
DTEND;TZID=Europe/Rome;VALUE=DATE-TIME:20230426T160000
DTSTAMP;VALUE=DATE-TIME:20260421T110501Z
UID:18789fc525164b758384a4d880fb2129@dse.unibo.it
CREATED;VALUE=DATE-TIME:20230405T131301Z
DESCRIPTION:Paper: "Inequality under serfdom: Income and its distribution 
 in early nineteenth-century Russia"
LAST-MODIFIED;VALUE=DATE-TIME:20230405T131348Z
URL:https://dse.unibo.it/it/eventi/economic-history-reading-group-elena-ko
 rchmina
END:VEVENT
BEGIN:VTIMEZONE
TZID:Europe/Rome
X-LIC-LOCATION:Europe/Rome
BEGIN:DAYLIGHT
DTSTART;VALUE=DATE-TIME:20230326T030000
TZNAME:CEST
TZOFFSETFROM:+0100
TZOFFSETTO:+0200
END:DAYLIGHT
END:VTIMEZONE
END:VCALENDAR
