BEGIN:VCALENDAR
VERSION:2.0
PRODID:-//Plone.org//NONSGML plone.app.event//EN
X-WR-TIMEZONE:Europe/Rome
BEGIN:VEVENT
SUMMARY:1st year students GOMAP PhD Forum
DTSTART;TZID=Europe/Rome;VALUE=DATE-TIME:20240909T084500
DTEND;TZID=Europe/Rome;VALUE=DATE-TIME:20240909T180000
DTSTAMP;VALUE=DATE-TIME:20260419T183916Z
UID:edca55bb4cf247c5a9cff5575cfcd83c@dse.unibo.it
CREATED;VALUE=DATE-TIME:20240903T120628Z
DESCRIPTION:Program and info in attachment
LAST-MODIFIED;VALUE=DATE-TIME:20240903T123025Z
URL:https://dse.unibo.it/it/eventi/1st-year-students-gomap-phd-forum
END:VEVENT
BEGIN:VTIMEZONE
TZID:Europe/Rome
X-LIC-LOCATION:Europe/Rome
BEGIN:DAYLIGHT
DTSTART;VALUE=DATE-TIME:20240331T030000
TZNAME:CEST
TZOFFSETFROM:+0100
TZOFFSETTO:+0200
END:DAYLIGHT
END:VTIMEZONE
END:VCALENDAR
