BEGIN:VCALENDAR
VERSION:2.0
PRODID:-//Plone.org//NONSGML plone.app.event//EN
X-WR-TIMEZONE:Europe/Rome
BEGIN:VEVENT
SUMMARY:Workshop “Prison conditions\, labor markets\, and recidivism”
DTSTART;TZID=Europe/Rome;VALUE=DATE-TIME:20180525T090000
DTEND;TZID=Europe/Rome;VALUE=DATE-TIME:20180526T160000
DTSTAMP;VALUE=DATE-TIME:20260423T112737Z
UID:42fbfe148fc844eeb55cd0adbb6e8246@dse.unibo.it
CREATED;VALUE=DATE-TIME:20180521T070745Z
LAST-MODIFIED;VALUE=DATE-TIME:20180521T070807Z
URL:https://dse.unibo.it/en/events/workshop-201cprison-conditions-labor-ma
 rkets-and-recidivism201d
END:VEVENT
BEGIN:VTIMEZONE
TZID:Europe/Rome
X-LIC-LOCATION:Europe/Rome
BEGIN:DAYLIGHT
DTSTART;VALUE=DATE-TIME:20180325T030000
TZNAME:CEST
TZOFFSETFROM:+0100
TZOFFSETTO:+0200
END:DAYLIGHT
END:VTIMEZONE
END:VCALENDAR
