BEGIN:VCALENDAR
VERSION:2.0
PRODID:-//Plone.org//NONSGML plone.app.event//EN
X-WR-TIMEZONE:Europe/Rome
BEGIN:VEVENT
SUMMARY:WiP Seminar: Francesco Alosa
DTSTART;TZID=Europe/Rome;VALUE=DATE-TIME:20230202T130000
DTEND;TZID=Europe/Rome;VALUE=DATE-TIME:20230202T140000
DTSTAMP;VALUE=DATE-TIME:20260425T050910Z
UID:5091336d6bfa4c3896c23a237e65f0a5@dse.unibo.it
CREATED;VALUE=DATE-TIME:20230111T134728Z
DESCRIPTION:Title: "Estimating the Elasticity of Turnover from Bunching: P
 referential Tax Regimes for Solo Self-employed in Italy"
LAST-MODIFIED;VALUE=DATE-TIME:20230120T124647Z
URL:https://dse.unibo.it/en/events/wip-seminar-francesco-alosa-1
END:VEVENT
BEGIN:VTIMEZONE
TZID:Europe/Rome
X-LIC-LOCATION:Europe/Rome
BEGIN:STANDARD
DTSTART;VALUE=DATE-TIME:20221030T020000
TZNAME:CET
TZOFFSETFROM:+0200
TZOFFSETTO:+0100
END:STANDARD
END:VTIMEZONE
END:VCALENDAR
