BEGIN:VCALENDAR
VERSION:2.0
PRODID:-//Plone.org//NONSGML plone.app.event//EN
X-WR-TIMEZONE:Europe/Rome
BEGIN:VEVENT
SUMMARY:WiP Seminar: David N. Weil (Brown University)
DTSTART;TZID=Europe/Rome;VALUE=DATE-TIME:20230518T120000
DTEND;TZID=Europe/Rome;VALUE=DATE-TIME:20230518T131500
DTSTAMP;VALUE=DATE-TIME:20260421T110504Z
UID:72c27665d6c74f188b97ec253b4d43a3@dse.unibo.it
CREATED;VALUE=DATE-TIME:20230419T090903Z
DESCRIPTION:Title: "Climate Change\, Population Growth\, and Population Pr
 essure"
LAST-MODIFIED;VALUE=DATE-TIME:20230419T091349Z
URL:https://dse.unibo.it/en/events/wip-seminar-david-n-weil-brown-universi
 ty
END:VEVENT
BEGIN:VTIMEZONE
TZID:Europe/Rome
X-LIC-LOCATION:Europe/Rome
BEGIN:DAYLIGHT
DTSTART;VALUE=DATE-TIME:20230326T030000
TZNAME:CEST
TZOFFSETFROM:+0100
TZOFFSETTO:+0200
END:DAYLIGHT
END:VTIMEZONE
END:VCALENDAR
