BEGIN:VCALENDAR
VERSION:2.0
PRODID:-//Plone.org//NONSGML plone.app.event//EN
X-WR-TIMEZONE:Europe/Rome
BEGIN:VEVENT
SUMMARY:WiP Seminar: Alessandra Palomar Fuertes
DTSTART;TZID=Europe/Rome;VALUE=DATE-TIME:20250515T130000
DTEND;TZID=Europe/Rome;VALUE=DATE-TIME:20250515T140000
DTSTAMP;VALUE=DATE-TIME:20260421T154830Z
UID:1cd34cd070234951b0720bd9f58702cd@dse.unibo.it
CREATED;VALUE=DATE-TIME:20250507T073748Z
DESCRIPTION:Title: "At what cost can women have it all? A causal analysis 
 of a reform on the labour conditions of domestic workers"
LAST-MODIFIED;VALUE=DATE-TIME:20250509T123034Z
URL:https://dse.unibo.it/en/events/wip-seminar-alessandra-palomar-fuertes
END:VEVENT
BEGIN:VTIMEZONE
TZID:Europe/Rome
X-LIC-LOCATION:Europe/Rome
BEGIN:DAYLIGHT
DTSTART;VALUE=DATE-TIME:20250330T030000
TZNAME:CEST
TZOFFSETFROM:+0100
TZOFFSETTO:+0200
END:DAYLIGHT
END:VTIMEZONE
END:VCALENDAR
