BEGIN:VCALENDAR
VERSION:2.0
PRODID:-//Plone.org//NONSGML plone.app.event//EN
X-WR-TIMEZONE:Europe/Rome
BEGIN:VEVENT
SUMMARY:Research seminar - Smart Working - Paola Profeta (Bocconi)
DTSTART;TZID=Europe/Rome;VALUE=DATE-TIME:20181106T140000
DTEND;TZID=Europe/Rome;VALUE=DATE-TIME:20181106T151500
DTSTAMP;VALUE=DATE-TIME:20260421T180052Z
UID:430f8d450d634f6eb4c41f8c98a4916f@dse.unibo.it
CREATED;VALUE=DATE-TIME:20181026T113146Z
LAST-MODIFIED;VALUE=DATE-TIME:20181026T113218Z
URL:https://dse.unibo.it/en/events/research-seminar-smart-working-paola-pr
 ofeta-bocconi
END:VEVENT
BEGIN:VTIMEZONE
TZID:Europe/Rome
X-LIC-LOCATION:Europe/Rome
BEGIN:STANDARD
DTSTART;VALUE=DATE-TIME:20181028T020000
TZNAME:CET
TZOFFSETFROM:+0200
TZOFFSETTO:+0100
END:STANDARD
END:VTIMEZONE
END:VCALENDAR
