BEGIN:VCALENDAR
VERSION:2.0
PRODID:-//Plone.org//NONSGML plone.app.event//EN
X-WR-TIMEZONE:Europe/Rome
BEGIN:VEVENT
SUMMARY:Research Seminar: Rodney Strachan (University of Queensland)
DTSTART;TZID=Europe/Rome;VALUE=DATE-TIME:20240913T120000
DTEND;TZID=Europe/Rome;VALUE=DATE-TIME:20240913T133000
DTSTAMP;VALUE=DATE-TIME:20260419T210904Z
UID:66a40057a82b4e1bb57de2f2d64e2687@dse.unibo.it
CREATED;VALUE=DATE-TIME:20240906T072353Z
DESCRIPTION:Title: Singular Vector Autoregressions (joint with Eisenstat\,
  E.)
LAST-MODIFIED;VALUE=DATE-TIME:20240906T072633Z
URL:https://dse.unibo.it/en/events/research-seminar-rodney-strachan-univer
 sity-of-queensland
END:VEVENT
BEGIN:VTIMEZONE
TZID:Europe/Rome
X-LIC-LOCATION:Europe/Rome
BEGIN:DAYLIGHT
DTSTART;VALUE=DATE-TIME:20240331T030000
TZNAME:CEST
TZOFFSETFROM:+0100
TZOFFSETTO:+0200
END:DAYLIGHT
END:VTIMEZONE
END:VCALENDAR
