BEGIN:VCALENDAR
VERSION:2.0
PRODID:-//Plone.org//NONSGML plone.app.event//EN
X-WR-TIMEZONE:Europe/Rome
BEGIN:VEVENT
SUMMARY:Research Seminar: Raquel Bernal
DTSTART;TZID=Europe/Rome;VALUE=DATE-TIME:20201124T150000
DTEND;TZID=Europe/Rome;VALUE=DATE-TIME:20201124T161500
DTSTAMP;VALUE=DATE-TIME:20260420T075629Z
UID:56dfe8a7de834f47b774dc507584c23e@dse.unibo.it
CREATED;VALUE=DATE-TIME:20201116T104427Z
DESCRIPTION:“The effects of a project and play-based early education pro
 gram on medium term developmental trajectories of young children in a low-
 income setting” (Raquel Bernal\, Milagros Nores & Michele Giannola)
LAST-MODIFIED;VALUE=DATE-TIME:20201116T105310Z
URL:https://dse.unibo.it/en/events/research-seminar-raquel-bernal
END:VEVENT
BEGIN:VTIMEZONE
TZID:Europe/Rome
X-LIC-LOCATION:Europe/Rome
BEGIN:STANDARD
DTSTART;VALUE=DATE-TIME:20201025T020000
TZNAME:CET
TZOFFSETFROM:+0200
TZOFFSETTO:+0100
END:STANDARD
END:VTIMEZONE
END:VCALENDAR
