BEGIN:VCALENDAR
VERSION:2.0
PRODID:-//Plone.org//NONSGML plone.app.event//EN
X-WR-TIMEZONE:Europe/Rome
BEGIN:VEVENT
SUMMARY:Research seminar - Physician Group Practices and Technology Diffus
 ion: Evidence from New Anti-diabetic Drugs - Kathleen Nosal (University of
  Mannheim)
DTSTART;TZID=Europe/Rome;VALUE=DATE-TIME:20160908T140000
DTEND;TZID=Europe/Rome;VALUE=DATE-TIME:20160908T151500
DTSTAMP;VALUE=DATE-TIME:20260423T015008Z
UID:c203e8c02b244414aa994281aa79ef77@dse.unibo.it
CREATED;VALUE=DATE-TIME:20160902T074945Z
LAST-MODIFIED;VALUE=DATE-TIME:20160902T075002Z
URL:https://dse.unibo.it/en/events/research-seminar-physician-group-practi
 ces-and-technology-diffusion-evidence-from-new-anti-diabetic-drugs-kathlee
 n-nosal-university-of-mannheim
END:VEVENT
BEGIN:VTIMEZONE
TZID:Europe/Rome
X-LIC-LOCATION:Europe/Rome
BEGIN:DAYLIGHT
DTSTART;VALUE=DATE-TIME:20160327T030000
TZNAME:CEST
TZOFFSETFROM:+0100
TZOFFSETTO:+0200
END:DAYLIGHT
END:VTIMEZONE
END:VCALENDAR
