BEGIN:VCALENDAR
VERSION:2.0
PRODID:-//Plone.org//NONSGML plone.app.event//EN
X-WR-TIMEZONE:Europe/Rome
BEGIN:VEVENT
SUMMARY:Research seminar - Mothers’ labour supply\, household income and
  child outcomes in sole-parent families - Marianne Bruins (Oxford)
DTSTART;TZID=Europe/Rome;VALUE=DATE-TIME:20190305T140000
DTEND;TZID=Europe/Rome;VALUE=DATE-TIME:20190305T151500
DTSTAMP;VALUE=DATE-TIME:20260422T001903Z
UID:37bad0730c504283b498ac8c5ffd0e2e@dse.unibo.it
CREATED;VALUE=DATE-TIME:20190301T100213Z
LAST-MODIFIED;VALUE=DATE-TIME:20190301T100241Z
URL:https://dse.unibo.it/en/events/research-seminar-mothers2019-labour-sup
 ply-household-income-and-child-outcomes-in-sole-parent-families-marianne-b
 ruins-oxford
END:VEVENT
BEGIN:VTIMEZONE
TZID:Europe/Rome
X-LIC-LOCATION:Europe/Rome
BEGIN:STANDARD
DTSTART;VALUE=DATE-TIME:20181028T020000
TZNAME:CET
TZOFFSETFROM:+0200
TZOFFSETTO:+0100
END:STANDARD
END:VTIMEZONE
END:VCALENDAR
