BEGIN:VCALENDAR
VERSION:2.0
PRODID:-//Plone.org//NONSGML plone.app.event//EN
X-WR-TIMEZONE:Europe/Rome
BEGIN:VEVENT
SUMMARY:Research seminar - Mechanics of replacing benefit systems with a b
 asic income: comparative results from a microsimulation approach - Herwig 
 Immervoll (OECD)
DTSTART;TZID=Europe/Rome;VALUE=DATE-TIME:20181030T140000
DTEND;TZID=Europe/Rome;VALUE=DATE-TIME:20181030T151500
DTSTAMP;VALUE=DATE-TIME:20260419T152751Z
UID:5e6c394793344160b5ff637d1191a4ee@dse.unibo.it
CREATED;VALUE=DATE-TIME:20180928T061627Z
LAST-MODIFIED;VALUE=DATE-TIME:20180928T061637Z
URL:https://dse.unibo.it/en/events/research-seminar-mechanics-of-replacing
 -benefit-systems-with-a-basic-income-comparative-results-from-a-microsimul
 ation-approach-herwig-immervoll-oecd
END:VEVENT
BEGIN:VTIMEZONE
TZID:Europe/Rome
X-LIC-LOCATION:Europe/Rome
BEGIN:STANDARD
DTSTART;VALUE=DATE-TIME:20181028T020000
TZNAME:CET
TZOFFSETFROM:+0200
TZOFFSETTO:+0100
END:STANDARD
END:VTIMEZONE
END:VCALENDAR
