BEGIN:VCALENDAR
VERSION:2.0
PRODID:-//Plone.org//NONSGML plone.app.event//EN
X-WR-TIMEZONE:Europe/Rome
BEGIN:VEVENT
SUMMARY:Research Seminar: Ian Sue Wing
DTSTART;TZID=Europe/Rome;VALUE=DATE-TIME:20240904T120000
DTEND;TZID=Europe/Rome;VALUE=DATE-TIME:20240904T131500
DTSTAMP;VALUE=DATE-TIME:20260419T191332Z
UID:a246c5b01e644b08b3615ec7810def83@dse.unibo.it
CREATED;VALUE=DATE-TIME:20240827T114724Z
DESCRIPTION:Title: "Housing Density Amplification of Wildfire Ignition Ris
 k Across the Western U.S." [Chen\, Sizhuo and Sue Wing\, Ian and Wrenn\, D
 ouglas H.]
LAST-MODIFIED;VALUE=DATE-TIME:20240827T114814Z
URL:https://dse.unibo.it/en/events/research-seminar-ian-sue-wing
END:VEVENT
BEGIN:VTIMEZONE
TZID:Europe/Rome
X-LIC-LOCATION:Europe/Rome
BEGIN:DAYLIGHT
DTSTART;VALUE=DATE-TIME:20240331T030000
TZNAME:CEST
TZOFFSETFROM:+0100
TZOFFSETTO:+0200
END:DAYLIGHT
END:VTIMEZONE
END:VCALENDAR
