BEGIN:VCALENDAR
VERSION:2.0
PRODID:-//Plone.org//NONSGML plone.app.event//EN
X-WR-TIMEZONE:Europe/Rome
BEGIN:VEVENT
SUMMARY:Research Seminar: Edoardo Grillo (Carlo Alberto)
DTSTART;TZID=Europe/Rome;VALUE=DATE-TIME:20201221T120000
DTEND;TZID=Europe/Rome;VALUE=DATE-TIME:20201221T131500
DTSTAMP;VALUE=DATE-TIME:20260421T173626Z
UID:6aaeb16f33f845af92289cb4a3101e32@dse.unibo.it
CREATED;VALUE=DATE-TIME:20201217T074152Z
DESCRIPTION:Title: "Dynamic Campaign Spending"
LAST-MODIFIED;VALUE=DATE-TIME:20201217T081557Z
URL:https://dse.unibo.it/en/events/research-seminar-edoardo-grillo-carlo-a
 lberto
END:VEVENT
BEGIN:VTIMEZONE
TZID:Europe/Rome
X-LIC-LOCATION:Europe/Rome
BEGIN:STANDARD
DTSTART;VALUE=DATE-TIME:20201025T020000
TZNAME:CET
TZOFFSETFROM:+0200
TZOFFSETTO:+0100
END:STANDARD
END:VTIMEZONE
END:VCALENDAR
