BEGIN:VCALENDAR
VERSION:2.0
PRODID:-//Plone.org//NONSGML plone.app.event//EN
X-WR-TIMEZONE:Europe/Rome
BEGIN:VEVENT
SUMMARY:Research seminar - Central Bank Balance Sheet Policies Without Rat
 ional Expectations - Luigi Iovino (Bocconi)
DTSTART;TZID=Europe/Rome;VALUE=DATE-TIME:20190319T140000
DTEND;TZID=Europe/Rome;VALUE=DATE-TIME:20190319T151500
DTSTAMP;VALUE=DATE-TIME:20260422T001914Z
UID:70d87e3724004b609bb077ff47f0f961@dse.unibo.it
CREATED;VALUE=DATE-TIME:20190313T082414Z
LAST-MODIFIED;VALUE=DATE-TIME:20190313T082455Z
URL:https://dse.unibo.it/en/events/research-seminar-central-bank-balance-s
 heet-policies-without-rational-expectations-luigi-iovino-bocconi
END:VEVENT
BEGIN:VTIMEZONE
TZID:Europe/Rome
X-LIC-LOCATION:Europe/Rome
BEGIN:STANDARD
DTSTART;VALUE=DATE-TIME:20181028T020000
TZNAME:CET
TZOFFSETFROM:+0200
TZOFFSETTO:+0100
END:STANDARD
END:VTIMEZONE
END:VCALENDAR
