BEGIN:VCALENDAR
VERSION:2.0
PRODID:-//Plone.org//NONSGML plone.app.event//EN
X-WR-TIMEZONE:Europe/Rome
BEGIN:VEVENT
SUMMARY:Political Economy Field Seminar: Stephane Wolton (London School of
  Economics)
DTSTART;TZID=Europe/Rome;VALUE=DATE-TIME:20240307T143000
DTEND;TZID=Europe/Rome;VALUE=DATE-TIME:20240307T160000
DTSTAMP;VALUE=DATE-TIME:20260420T111227Z
UID:6b80f780342047c7b5ccf659e946e342@dse.unibo.it
CREATED;VALUE=DATE-TIME:20240305T104051Z
DESCRIPTION:Title: "The structural transformation of the public space: H
 igh street changes and populism"
LAST-MODIFIED;VALUE=DATE-TIME:20240305T104226Z
URL:https://dse.unibo.it/en/events/political-economy-field-seminar-stephan
 e-wolton-london-school-of-economics
END:VEVENT
BEGIN:VTIMEZONE
TZID:Europe/Rome
X-LIC-LOCATION:Europe/Rome
BEGIN:STANDARD
DTSTART;VALUE=DATE-TIME:20231029T020000
TZNAME:CET
TZOFFSETFROM:+0200
TZOFFSETTO:+0100
END:STANDARD
END:VTIMEZONE
END:VCALENDAR
