BEGIN:VCALENDAR
VERSION:2.0
PRODID:-//Plone.org//NONSGML plone.app.event//EN
X-WR-TIMEZONE:Europe/Rome
BEGIN:VEVENT
SUMMARY:Le retoriche della crisi: tra dubbio e fiducia
DTSTART;TZID=Europe/Rome;VALUE=DATE-TIME:20241114T180000
DTEND;TZID=Europe/Rome;VALUE=DATE-TIME:20241114T193000
DTSTAMP;VALUE=DATE-TIME:20260422T185245Z
UID:d3e9a3883cb14a88953f79925372a42c@dse.unibo.it
CREATED;VALUE=DATE-TIME:20241107T102807Z
DESCRIPTION:Appuntamento a cura dei Dipartimenti di Scienze politiche e so
 ciali\, Scienze economiche\, Sociologia e Diritto dell’Economia
LAST-MODIFIED;VALUE=DATE-TIME:20241107T103439Z
URL:https://dse.unibo.it/en/events/le-retoriche-della-crisi-tra-dubbio-e-f
 iducia
END:VEVENT
BEGIN:VTIMEZONE
TZID:Europe/Rome
X-LIC-LOCATION:Europe/Rome
BEGIN:STANDARD
DTSTART;VALUE=DATE-TIME:20241027T020000
TZNAME:CET
TZOFFSETFROM:+0200
TZOFFSETTO:+0100
END:STANDARD
END:VTIMEZONE
END:VCALENDAR
