BEGIN:VCALENDAR
VERSION:2.0
PRODID:-//Plone.org//NONSGML plone.app.event//EN
X-WR-TIMEZONE:Europe/Rome
BEGIN:VEVENT
SUMMARY:L'applicazione delle leggi razziali del 1938 all'Università di Bo
 logna
DTSTART;TZID=Europe/Rome;VALUE=DATE-TIME:20240126T100000
DTEND;TZID=Europe/Rome;VALUE=DATE-TIME:20240126T110000
DTSTAMP;VALUE=DATE-TIME:20260420T111402Z
UID:1362637c15f64b3fbf7b4fdb07f19bb3@dse.unibo.it
CREATED;VALUE=DATE-TIME:20240119T074458Z
DESCRIPTION:Evento in occasione della Giornata della Memoria
LAST-MODIFIED;VALUE=DATE-TIME:20240119T074633Z
URL:https://dse.unibo.it/en/events/l-applicazione-delle-leggi-razziali-del
 -1938-all-universita-di-bologna
END:VEVENT
BEGIN:VTIMEZONE
TZID:Europe/Rome
X-LIC-LOCATION:Europe/Rome
BEGIN:STANDARD
DTSTART;VALUE=DATE-TIME:20231029T020000
TZNAME:CET
TZOFFSETFROM:+0200
TZOFFSETTO:+0100
END:STANDARD
END:VTIMEZONE
END:VCALENDAR
