BEGIN:VCALENDAR
VERSION:2.0
PRODID:-//Plone.org//NONSGML plone.app.event//EN
X-WR-TIMEZONE:Europe/Rome
BEGIN:VEVENT
SUMMARY:Internal Seminar: Tommaso Sonno
DTSTART;TZID=Europe/Rome;VALUE=DATE-TIME:20241113T130000
DTEND;TZID=Europe/Rome;VALUE=DATE-TIME:20241113T140000
DTSTAMP;VALUE=DATE-TIME:20260421T180052Z
UID:65ac33412a574803baddf5a9340f69a4@dse.unibo.it
CREATED;VALUE=DATE-TIME:20240916T065245Z
DESCRIPTION:Title: "Large Scale Land Acquisitions"
LAST-MODIFIED;VALUE=DATE-TIME:20240916T065301Z
URL:https://dse.unibo.it/en/events/internal-seminar-tommaso-sonno-13-11-20
 24
END:VEVENT
BEGIN:VTIMEZONE
TZID:Europe/Rome
X-LIC-LOCATION:Europe/Rome
BEGIN:STANDARD
DTSTART;VALUE=DATE-TIME:20241027T020000
TZNAME:CET
TZOFFSETFROM:+0200
TZOFFSETTO:+0100
END:STANDARD
END:VTIMEZONE
END:VCALENDAR
