BEGIN:VCALENDAR
VERSION:2.0
PRODID:-//Plone.org//NONSGML plone.app.event//EN
X-WR-TIMEZONE:Europe/Rome
BEGIN:VEVENT
SUMMARY:Internal seminar - Ambulances Get Lost: the Problem of Patient Loc
 alization in Emergency Care - Elena Lucchese
DTSTART;TZID=Europe/Rome;VALUE=DATE-TIME:20180307T130000
DTEND;TZID=Europe/Rome;VALUE=DATE-TIME:20180307T140000
DTSTAMP;VALUE=DATE-TIME:20260419T183737Z
UID:ef1b7610c48940ec920089293176f7ff@dse.unibo.it
CREATED;VALUE=DATE-TIME:20180217T153534Z
LAST-MODIFIED;VALUE=DATE-TIME:20180302T101736Z
URL:https://dse.unibo.it/en/events/internal-seminar-the-problem-of-patient
 -localization-in-emergency-care-elena-lucchese
END:VEVENT
BEGIN:VTIMEZONE
TZID:Europe/Rome
X-LIC-LOCATION:Europe/Rome
BEGIN:STANDARD
DTSTART;VALUE=DATE-TIME:20171029T020000
TZNAME:CET
TZOFFSETFROM:+0200
TZOFFSETTO:+0100
END:STANDARD
END:VTIMEZONE
END:VCALENDAR
