BEGIN:VCALENDAR
VERSION:2.0
PRODID:-//Plone.org//NONSGML plone.app.event//EN
X-WR-TIMEZONE:Europe/Rome
BEGIN:VEVENT
SUMMARY:Internal seminar - The long Road to modern Economic Growth: Space\
 , Trade\, and Agglomeration - Alexander Lehner
DTSTART;TZID=Europe/Rome;VALUE=DATE-TIME:20190313T130000
DTEND;TZID=Europe/Rome;VALUE=DATE-TIME:20190313T140000
DTSTAMP;VALUE=DATE-TIME:20260421T204401Z
UID:52b65947a7654f28a267dc5fdf620910@dse.unibo.it
CREATED;VALUE=DATE-TIME:20190313T082201Z
LAST-MODIFIED;VALUE=DATE-TIME:20190313T082226Z
URL:https://dse.unibo.it/en/events/internal-seminar-the-long-road-to-moder
 n-economic-growth-space-trade-and-agglomeration-alexander-lehner
END:VEVENT
BEGIN:VTIMEZONE
TZID:Europe/Rome
X-LIC-LOCATION:Europe/Rome
BEGIN:STANDARD
DTSTART;VALUE=DATE-TIME:20181028T020000
TZNAME:CET
TZOFFSETFROM:+0200
TZOFFSETTO:+0100
END:STANDARD
END:VTIMEZONE
END:VCALENDAR
