BEGIN:VCALENDAR
VERSION:2.0
PRODID:-//Plone.org//NONSGML plone.app.event//EN
X-WR-TIMEZONE:Europe/Rome
BEGIN:VEVENT
SUMMARY:Internal seminar - Testing the Internal Validity of Compulsory Sch
 ool Reforms as Instrument for Years of Schooling - Margherita Fort
DTSTART;TZID=Europe/Rome;VALUE=DATE-TIME:20190213T130000
DTEND;TZID=Europe/Rome;VALUE=DATE-TIME:20190213T140000
DTSTAMP;VALUE=DATE-TIME:20260422T001914Z
UID:f76447c4f0f24ae7b4108d1c2f3cfcb2@dse.unibo.it
CREATED;VALUE=DATE-TIME:20190208T075944Z
LAST-MODIFIED;VALUE=DATE-TIME:20190208T080046Z
URL:https://dse.unibo.it/en/events/internal-seminar-testing-the-internal-v
 alidity-of-compulsory-school-reforms-as-instrument-for-years-of-schooling-
 margherita-fort
END:VEVENT
BEGIN:VTIMEZONE
TZID:Europe/Rome
X-LIC-LOCATION:Europe/Rome
BEGIN:STANDARD
DTSTART;VALUE=DATE-TIME:20181028T020000
TZNAME:CET
TZOFFSETFROM:+0200
TZOFFSETTO:+0100
END:STANDARD
END:VTIMEZONE
END:VCALENDAR
