BEGIN:VCALENDAR
VERSION:2.0
PRODID:-//Plone.org//NONSGML plone.app.event//EN
X-WR-TIMEZONE:Europe/Rome
BEGIN:VEVENT
SUMMARY:Internal Seminar: Sarah Spycher
DTSTART;TZID=Europe/Rome;VALUE=DATE-TIME:20240619T130000
DTEND;TZID=Europe/Rome;VALUE=DATE-TIME:20240619T140000
DTSTAMP;VALUE=DATE-TIME:20260425T174225Z
UID:0c57695401854863a91c157ca240bfe3@dse.unibo.it
CREATED;VALUE=DATE-TIME:20240606T083237Z
DESCRIPTION:Title: "Elections\, Political Polarisation and Environmental A
 greements"
LAST-MODIFIED;VALUE=DATE-TIME:20240606T083301Z
URL:https://dse.unibo.it/en/events/internal-seminar-sarah-spycher
END:VEVENT
BEGIN:VTIMEZONE
TZID:Europe/Rome
X-LIC-LOCATION:Europe/Rome
BEGIN:DAYLIGHT
DTSTART;VALUE=DATE-TIME:20240331T030000
TZNAME:CEST
TZOFFSETFROM:+0100
TZOFFSETTO:+0200
END:DAYLIGHT
END:VTIMEZONE
END:VCALENDAR
