BEGIN:VCALENDAR
VERSION:2.0
PRODID:-//Plone.org//NONSGML plone.app.event//EN
X-WR-TIMEZONE:Europe/Rome
BEGIN:VEVENT
SUMMARY:Internal seminar - Psychological and Social Motivations in Microfi
 nance Contracts: Theory and Evidence - Junaid Arshad
DTSTART;TZID=Europe/Rome;VALUE=DATE-TIME:20190306T130000
DTEND;TZID=Europe/Rome;VALUE=DATE-TIME:20190306T140000
DTSTAMP;VALUE=DATE-TIME:20260422T001914Z
UID:948cf54f60834e3c8384a4b887d797ed@dse.unibo.it
CREATED;VALUE=DATE-TIME:20190301T100426Z
LAST-MODIFIED;VALUE=DATE-TIME:20190301T100432Z
URL:https://dse.unibo.it/en/events/internal-seminar-psychological-and-soci
 al-motivations-in-microfinance-contracts-theory-and-evidence-junaid-arshad
END:VEVENT
BEGIN:VTIMEZONE
TZID:Europe/Rome
X-LIC-LOCATION:Europe/Rome
BEGIN:STANDARD
DTSTART;VALUE=DATE-TIME:20181028T020000
TZNAME:CET
TZOFFSETFROM:+0200
TZOFFSETTO:+0100
END:STANDARD
END:VTIMEZONE
END:VCALENDAR
