BEGIN:VCALENDAR
VERSION:2.0
PRODID:-//Plone.org//NONSGML plone.app.event//EN
X-WR-TIMEZONE:Europe/Rome
BEGIN:VEVENT
SUMMARY:Internal seminar - Online media: when promoting competitors soften
 s competition - Xavier Lambin
DTSTART;TZID=Europe/Rome;VALUE=DATE-TIME:20180321T130000
DTEND;TZID=Europe/Rome;VALUE=DATE-TIME:20180321T140000
DTSTAMP;VALUE=DATE-TIME:20260421T142220Z
UID:7650f6c2d31e4ff38468c10d70bf5b6e@dse.unibo.it
CREATED;VALUE=DATE-TIME:20180302T081041Z
LAST-MODIFIED;VALUE=DATE-TIME:20180305T131936Z
URL:https://dse.unibo.it/en/events/internal-seminar-online-media-when-prom
 oting-competitors-softens-competition-xavier-lambin
END:VEVENT
BEGIN:VTIMEZONE
TZID:Europe/Rome
X-LIC-LOCATION:Europe/Rome
BEGIN:STANDARD
DTSTART;VALUE=DATE-TIME:20171029T020000
TZNAME:CET
TZOFFSETFROM:+0200
TZOFFSETTO:+0100
END:STANDARD
END:VTIMEZONE
END:VCALENDAR
