BEGIN:VCALENDAR
VERSION:2.0
PRODID:-//Plone.org//NONSGML plone.app.event//EN
X-WR-TIMEZONE:Europe/Rome
BEGIN:VEVENT
SUMMARY:Internal seminar - Corruption Corrupts: Political Scandals and Sup
 ermarket Thefts (with Federico Masera) - Giorgio Gulino
DTSTART;TZID=Europe/Rome;VALUE=DATE-TIME:20190320T130000
DTEND;TZID=Europe/Rome;VALUE=DATE-TIME:20190320T140000
DTSTAMP;VALUE=DATE-TIME:20260422T001904Z
UID:9026038b7e8f40978ba5023664c9bebc@dse.unibo.it
CREATED;VALUE=DATE-TIME:20190313T082630Z
LAST-MODIFIED;VALUE=DATE-TIME:20190313T082640Z
URL:https://dse.unibo.it/en/events/internal-seminar-corruption-corrupts-po
 litical-scandals-and-supermarket-thefts-with-federico-masera-giorgio-gulin
 o
END:VEVENT
BEGIN:VTIMEZONE
TZID:Europe/Rome
X-LIC-LOCATION:Europe/Rome
BEGIN:STANDARD
DTSTART;VALUE=DATE-TIME:20181028T020000
TZNAME:CET
TZOFFSETFROM:+0200
TZOFFSETTO:+0100
END:STANDARD
END:VTIMEZONE
END:VCALENDAR
