BEGIN:VCALENDAR
VERSION:2.0
PRODID:-//Plone.org//NONSGML plone.app.event//EN
X-WR-TIMEZONE:Europe/Rome
BEGIN:VEVENT
SUMMARY:Internal Seminar: Adriano De Falco
DTSTART;TZID=Europe/Rome;VALUE=DATE-TIME:20241016T130000
DTEND;TZID=Europe/Rome;VALUE=DATE-TIME:20241016T140000
DTSTAMP;VALUE=DATE-TIME:20260419T155953Z
UID:661d7a2935d94f4babe8290dca1787fd@dse.unibo.it
CREATED;VALUE=DATE-TIME:20240916T063928Z
DESCRIPTION:Title: "Recruiting Better Teachers? Evidence from a Higher Edu
 cation Reform in Chile"
LAST-MODIFIED;VALUE=DATE-TIME:20240916T063951Z
URL:https://dse.unibo.it/en/events/internal-seminar-adriano-de-falco
END:VEVENT
BEGIN:VTIMEZONE
TZID:Europe/Rome
X-LIC-LOCATION:Europe/Rome
BEGIN:DAYLIGHT
DTSTART;VALUE=DATE-TIME:20240331T030000
TZNAME:CEST
TZOFFSETFROM:+0100
TZOFFSETTO:+0200
END:DAYLIGHT
END:VTIMEZONE
END:VCALENDAR
