BEGIN:VCALENDAR
VERSION:2.0
PRODID:-//Plone.org//NONSGML plone.app.event//EN
X-WR-TIMEZONE:Europe/Rome
BEGIN:VEVENT
SUMMARY:Internal seminar: “Assessing financial constraints at the firm l
 evel: the critical role of the demand for credit” - Patrick Sevestre
DTSTART;TZID=Europe/Rome;VALUE=DATE-TIME:20190220T130000
DTEND;TZID=Europe/Rome;VALUE=DATE-TIME:20190220T140000
DTSTAMP;VALUE=DATE-TIME:20260422T001904Z
UID:e8242e4e90c54ed3a03d0b580b71e194@dse.unibo.it
CREATED;VALUE=DATE-TIME:20190215T133150Z
LAST-MODIFIED;VALUE=DATE-TIME:20190215T133547Z
URL:https://dse.unibo.it/en/events/internal-seminar-201cassessing-financia
 l-constraints-at-the-firm-level-the-critical-role-of-the-demand-for-credit
 201d-patrick-sevestre
END:VEVENT
BEGIN:VTIMEZONE
TZID:Europe/Rome
X-LIC-LOCATION:Europe/Rome
BEGIN:STANDARD
DTSTART;VALUE=DATE-TIME:20181028T020000
TZNAME:CET
TZOFFSETFROM:+0200
TZOFFSETTO:+0100
END:STANDARD
END:VTIMEZONE
END:VCALENDAR
