BEGIN:VCALENDAR
VERSION:2.0
PRODID:-//Plone.org//NONSGML plone.app.event//EN
X-WR-TIMEZONE:Europe/Rome
BEGIN:VEVENT
SUMMARY:Environmental Field Seminar: Christian Traeger (Oslo)
DTSTART;TZID=Europe/Rome;VALUE=DATE-TIME:20251106T143000
DTEND;TZID=Europe/Rome;VALUE=DATE-TIME:20251106T153000
DTSTAMP;VALUE=DATE-TIME:20260419T142015Z
UID:a864a5f7e90045d0951dabe770afa4d2@dse.unibo.it
CREATED;VALUE=DATE-TIME:20251016T081756Z
DESCRIPTION:Title: "Temperature Shocks and Climate Change: A Conceptual An
 alysis"
LAST-MODIFIED;VALUE=DATE-TIME:20251016T081902Z
URL:https://dse.unibo.it/en/events/environmental-field-seminar-christian-t
 raeger-oslo-06-11-2025
END:VEVENT
BEGIN:VTIMEZONE
TZID:Europe/Rome
X-LIC-LOCATION:Europe/Rome
BEGIN:STANDARD
DTSTART;VALUE=DATE-TIME:20251026T020000
TZNAME:CET
TZOFFSETFROM:+0200
TZOFFSETTO:+0100
END:STANDARD
END:VTIMEZONE
END:VCALENDAR
