BEGIN:VCALENDAR
VERSION:2.0
PRODID:-//Plone.org//NONSGML plone.app.event//EN
X-WR-TIMEZONE:Europe/Rome
BEGIN:VEVENT
SUMMARY:Economic History Reading Group: Pedro N. Teixeira (CIPES & Faculty
  of Economics – U.Porto)
DTSTART;TZID=Europe/Rome;VALUE=DATE-TIME:20250304T110000
DTEND;TZID=Europe/Rome;VALUE=DATE-TIME:20250304T123000
DTSTAMP;VALUE=DATE-TIME:20260421T180052Z
UID:942ac63636204c6bbc2223ca711829b6@dse.unibo.it
CREATED;VALUE=DATE-TIME:20250219T093407Z
DESCRIPTION:Title: "Worlds Apart? The Emergence and Consolidation of the E
 conomics of Education in Economics and Education (1960-1980)"
LAST-MODIFIED;VALUE=DATE-TIME:20250225T102534Z
URL:https://dse.unibo.it/en/events/economic-history-reading-group-pedro-n-
 teixeira
END:VEVENT
BEGIN:VTIMEZONE
TZID:Europe/Rome
X-LIC-LOCATION:Europe/Rome
BEGIN:STANDARD
DTSTART;VALUE=DATE-TIME:20241027T020000
TZNAME:CET
TZOFFSETFROM:+0200
TZOFFSETTO:+0100
END:STANDARD
END:VTIMEZONE
END:VCALENDAR
