BEGIN:VCALENDAR
VERSION:2.0
PRODID:-//Plone.org//NONSGML plone.app.event//EN
X-WR-TIMEZONE:Europe/Rome
BEGIN:VEVENT
SUMMARY:Economic History Reading Group: Francesca Fauri
DTSTART;TZID=Europe/Rome;VALUE=DATE-TIME:20230130T143000
DTEND;TZID=Europe/Rome;VALUE=DATE-TIME:20230130T160000
DTSTAMP;VALUE=DATE-TIME:20260419T141725Z
UID:38555aa5200c4335aab94a859587ce15@dse.unibo.it
CREATED;VALUE=DATE-TIME:20230123T070142Z
DESCRIPTION:Paper: "Economic  History and Contemporary Challenges to Globa
 lization" by Kevin O'Rourke
LAST-MODIFIED;VALUE=DATE-TIME:20230123T070142Z
URL:https://dse.unibo.it/en/events/economic-history-reading-group-francesc
 a-fauri
END:VEVENT
BEGIN:VTIMEZONE
TZID:Europe/Rome
X-LIC-LOCATION:Europe/Rome
BEGIN:STANDARD
DTSTART;VALUE=DATE-TIME:20221030T020000
TZNAME:CET
TZOFFSETFROM:+0200
TZOFFSETTO:+0100
END:STANDARD
END:VTIMEZONE
END:VCALENDAR
