BEGIN:VCALENDAR
VERSION:2.0
PRODID:-//Plone.org//NONSGML plone.app.event//EN
X-WR-TIMEZONE:Europe/Rome
BEGIN:VEVENT
SUMMARY:Economic History Reading Group: Francesca Fauri
DTSTART;TZID=Europe/Rome;VALUE=DATE-TIME:20251029T160000
DTEND;TZID=Europe/Rome;VALUE=DATE-TIME:20251029T170000
DTSTAMP;VALUE=DATE-TIME:20260419T153907Z
UID:7f82ef168a2743e09c55704c9e70b23b@dse.unibo.it
CREATED;VALUE=DATE-TIME:20251023T115048Z
DESCRIPTION:Topic: "A Captain of Industry in a Pioneering Sector: Gianni C
 aproni and the Birth of the Aviation Industry in Italy (1910–1940)"
LAST-MODIFIED;VALUE=DATE-TIME:20251023T120601Z
URL:https://dse.unibo.it/en/events/economic-history-reading-group-francesc
 a-fauri-29-10-2025
END:VEVENT
BEGIN:VTIMEZONE
TZID:Europe/Rome
X-LIC-LOCATION:Europe/Rome
BEGIN:STANDARD
DTSTART;VALUE=DATE-TIME:20251026T020000
TZNAME:CET
TZOFFSETFROM:+0200
TZOFFSETTO:+0100
END:STANDARD
END:VTIMEZONE
END:VCALENDAR
