BEGIN:VCALENDAR
VERSION:2.0
PRODID:-//Plone.org//NONSGML plone.app.event//EN
X-WR-TIMEZONE:Europe/Rome
BEGIN:VEVENT
SUMMARY:Economic History Reading Group
DTSTART;TZID=Europe/Rome;VALUE=DATE-TIME:20240913T180000
DTEND;TZID=Europe/Rome;VALUE=DATE-TIME:20240913T190000
DTSTAMP;VALUE=DATE-TIME:20260419T191332Z
UID:783fff87aaef40869ebab73a71c25849@dse.unibo.it
CREATED;VALUE=DATE-TIME:20240913T130235Z
DESCRIPTION:Presenter: Maxence Castiello
LAST-MODIFIED;VALUE=DATE-TIME:20240913T130235Z
URL:https://dse.unibo.it/en/events/economic-history-reading-group-3
END:VEVENT
BEGIN:VTIMEZONE
TZID:Europe/Rome
X-LIC-LOCATION:Europe/Rome
BEGIN:DAYLIGHT
DTSTART;VALUE=DATE-TIME:20240331T030000
TZNAME:CEST
TZOFFSETFROM:+0100
TZOFFSETTO:+0200
END:DAYLIGHT
END:VTIMEZONE
END:VCALENDAR
