BEGIN:VCALENDAR
VERSION:2.0
PRODID:-//Plone.org//NONSGML plone.app.event//EN
X-WR-TIMEZONE:Europe/Rome
BEGIN:VEVENT
SUMMARY:Econometrics Reading Group: Edoardo Zanelli
DTSTART;TZID=Europe/Rome;VALUE=DATE-TIME:20240903T150000
DTEND;TZID=Europe/Rome;VALUE=DATE-TIME:20240903T170000
DTSTAMP;VALUE=DATE-TIME:20260419T191222Z
UID:099da6d8ab784b76a95b8c4819d103d4@dse.unibo.it
CREATED;VALUE=DATE-TIME:20240829T110550Z
DESCRIPTION:Topic: Chapter 13: Nonparametric least squares
LAST-MODIFIED;VALUE=DATE-TIME:20240829T110912Z
URL:https://dse.unibo.it/en/events/econometrics-reading-group-edoardo-zane
 lli
END:VEVENT
BEGIN:VTIMEZONE
TZID:Europe/Rome
X-LIC-LOCATION:Europe/Rome
BEGIN:DAYLIGHT
DTSTART;VALUE=DATE-TIME:20240331T030000
TZNAME:CEST
TZOFFSETFROM:+0100
TZOFFSETTO:+0200
END:DAYLIGHT
END:VTIMEZONE
END:VCALENDAR
