BEGIN:VCALENDAR
VERSION:2.0
PRODID:-//Plone.org//NONSGML plone.app.event//EN
X-WR-TIMEZONE:Europe/Rome
BEGIN:VEVENT
SUMMARY:Econometric Reading Group: Iliyan Georgiev
DTSTART;TZID=Europe/Rome;VALUE=DATE-TIME:20240621T150000
DTEND;TZID=Europe/Rome;VALUE=DATE-TIME:20240621T170000
DTSTAMP;VALUE=DATE-TIME:20260425T210555Z
UID:a5db3eec2294480e99caa79b6b9fa095@dse.unibo.it
CREATED;VALUE=DATE-TIME:20240613T130929Z
DESCRIPTION:Topic: "Chapter 6: Random matrices and covariance estimation"
LAST-MODIFIED;VALUE=DATE-TIME:20240613T130929Z
URL:https://dse.unibo.it/en/events/econometric-reading-group-iliyan-georgi
 ev
END:VEVENT
BEGIN:VTIMEZONE
TZID:Europe/Rome
X-LIC-LOCATION:Europe/Rome
BEGIN:DAYLIGHT
DTSTART;VALUE=DATE-TIME:20240331T030000
TZNAME:CEST
TZOFFSETFROM:+0100
TZOFFSETTO:+0200
END:DAYLIGHT
END:VTIMEZONE
END:VCALENDAR
