BEGIN:VCALENDAR
VERSION:2.0
PRODID:-//Plone.org//NONSGML plone.app.event//EN
X-WR-TIMEZONE:Europe/Rome
BEGIN:VEVENT
SUMMARY:European Association of Law and Economics - XXXIII Annual Conferen
 ce
DTSTART;TZID=Europe/Rome;VALUE=DATE-TIME:20160915T090000
DTEND;TZID=Europe/Rome;VALUE=DATE-TIME:20160917T190000
DTSTAMP;VALUE=DATE-TIME:20260424T160958Z
UID:5998e14084d14c06968e7b0229cabeb1@dse.unibo.it
CREATED;VALUE=DATE-TIME:20160823T133029Z
DESCRIPTION:The 33rd Annual Conference of the European Association of Law 
 and Economics will be held on 15-17 September 2016 in Bologna\, Italy.
LAST-MODIFIED;VALUE=DATE-TIME:20160902T080310Z
URL:https://dse.unibo.it/en/events/eale-conference-2016
END:VEVENT
BEGIN:VTIMEZONE
TZID:Europe/Rome
X-LIC-LOCATION:Europe/Rome
BEGIN:DAYLIGHT
DTSTART;VALUE=DATE-TIME:20160327T030000
TZNAME:CEST
TZOFFSETFROM:+0100
TZOFFSETTO:+0200
END:DAYLIGHT
END:VTIMEZONE
END:VCALENDAR
