BEGIN:VCALENDAR
VERSION:2.0
PRODID:-//Plone.org//NONSGML plone.app.event//EN
X-WR-TIMEZONE:Europe/Rome
BEGIN:VEVENT
SUMMARY:BoMoPaV Economics Meetings 2018
DTSTART;TZID=Europe/Rome;VALUE=DATE-TIME:20180409T134500
DTEND;TZID=Europe/Rome;VALUE=DATE-TIME:20180409T134500
DTSTAMP;VALUE=DATE-TIME:20260423T112807Z
UID:1db472c46b74464d92228d64d4a6c232@dse.unibo.it
CREATED;VALUE=DATE-TIME:20180409T095250Z
LAST-MODIFIED;VALUE=DATE-TIME:20180409T095321Z
URL:https://dse.unibo.it/en/events/bomopav-economics-meetings-2018
END:VEVENT
BEGIN:VTIMEZONE
TZID:Europe/Rome
X-LIC-LOCATION:Europe/Rome
BEGIN:DAYLIGHT
DTSTART;VALUE=DATE-TIME:20180325T030000
TZNAME:CEST
TZOFFSETFROM:+0100
TZOFFSETTO:+0200
END:DAYLIGHT
END:VTIMEZONE
END:VCALENDAR
