BEGIN:VCALENDAR
VERSION:2.0
PRODID:-//Plone.org//NONSGML plone.app.event//EN
X-WR-TIMEZONE:Europe/Rome
BEGIN:VEVENT
SUMMARY:BHEPPE Seminar: Pietro Biroli
DTSTART;TZID=Europe/Rome;VALUE=DATE-TIME:20240923T143000
DTEND;TZID=Europe/Rome;VALUE=DATE-TIME:20240923T153000
DTSTAMP;VALUE=DATE-TIME:20260419T193922Z
UID:b152208af7ce4271bc8361a9de14e59f@dse.unibo.it
CREATED;VALUE=DATE-TIME:20240918T093638Z
DESCRIPTION:Title: “Talent is Everywhere\, Opportunity is Not: Online Ro
 le Model Mentoring and Students’ Aspirations”
LAST-MODIFIED;VALUE=DATE-TIME:20240918T093654Z
URL:https://dse.unibo.it/en/events/bheppe-seminar-pietro-biroli-23-09-2024
END:VEVENT
BEGIN:VTIMEZONE
TZID:Europe/Rome
X-LIC-LOCATION:Europe/Rome
BEGIN:DAYLIGHT
DTSTART;VALUE=DATE-TIME:20240331T030000
TZNAME:CEST
TZOFFSETFROM:+0100
TZOFFSETTO:+0200
END:DAYLIGHT
END:VTIMEZONE
END:VCALENDAR
