BEGIN:VCALENDAR
VERSION:2.0
PRODID:-//Plone.org//NONSGML plone.app.event//EN
X-WR-TIMEZONE:Europe/Rome
BEGIN:VEVENT
SUMMARY:Assegnazione premi di studio AIBA
DTSTART;TZID=Europe/Rome;VALUE=DATE-TIME:20230403T170000
DTEND;TZID=Europe/Rome;VALUE=DATE-TIME:20230403T180000
DTSTAMP;VALUE=DATE-TIME:20260420T110444Z
UID:2bedd7c3599b471087a1757c7e1c5759@dse.unibo.it
CREATED;VALUE=DATE-TIME:20230322T131217Z
DESCRIPTION:Un premio di 2.500€ finanziato dall'Associazione Italiana de
 i Brokers di Assicurazioni e Riassicurazioni\, per due studenti meritevoli
  dell'Alma Mater
LAST-MODIFIED;VALUE=DATE-TIME:20230322T131236Z
URL:https://dse.unibo.it/en/events/assegnazione-premi-di-studio-aiba
END:VEVENT
BEGIN:VTIMEZONE
TZID:Europe/Rome
X-LIC-LOCATION:Europe/Rome
BEGIN:DAYLIGHT
DTSTART;VALUE=DATE-TIME:20230326T030000
TZNAME:CEST
TZOFFSETFROM:+0100
TZOFFSETTO:+0200
END:DAYLIGHT
END:VTIMEZONE
END:VCALENDAR
