BEGIN:VCALENDAR
VERSION:2.0
PRODID:-//Plone.org//NONSGML plone.app.event//EN
X-WR-TIMEZONE:Europe/Rome
BEGIN:VEVENT
SUMMARY:2nd year PhD Forum
DTSTART;TZID=Europe/Rome;VALUE=DATE-TIME:20190227T091500
DTEND;TZID=Europe/Rome;VALUE=DATE-TIME:20190227T163000
DTSTAMP;VALUE=DATE-TIME:20260422T013941Z
UID:b4f388ec7a3b4076aac44a9b50fa3da8@dse.unibo.it
CREATED;VALUE=DATE-TIME:20190207T141539Z
LAST-MODIFIED;VALUE=DATE-TIME:20190220T134727Z
URL:https://dse.unibo.it/en/events/2nd-year-phd-forum
END:VEVENT
BEGIN:VTIMEZONE
TZID:Europe/Rome
X-LIC-LOCATION:Europe/Rome
BEGIN:STANDARD
DTSTART;VALUE=DATE-TIME:20181028T020000
TZNAME:CET
TZOFFSETFROM:+0200
TZOFFSETTO:+0100
END:STANDARD
END:VTIMEZONE
END:VCALENDAR
