BEGIN:VCALENDAR
VERSION:2.0
PRODID:-//Plone.org//NONSGML plone.app.event//EN
X-WR-TIMEZONE:Europe/Rome
BEGIN:VEVENT
SUMMARY:1st year students GOMAP PhD Forum
DTSTART;TZID=Europe/Rome;VALUE=DATE-TIME:20240910T084500
DTEND;TZID=Europe/Rome;VALUE=DATE-TIME:20240910T133000
DTSTAMP;VALUE=DATE-TIME:20260419T222746Z
UID:f5445d2e72314e7bb0cedbadfd1d1b51@dse.unibo.it
CREATED;VALUE=DATE-TIME:20240903T121422Z
DESCRIPTION:Program and info in attachment
LAST-MODIFIED;VALUE=DATE-TIME:20240903T123103Z
URL:https://dse.unibo.it/en/events/1st-year-students-gomap-phd-forum-1
END:VEVENT
BEGIN:VTIMEZONE
TZID:Europe/Rome
X-LIC-LOCATION:Europe/Rome
BEGIN:DAYLIGHT
DTSTART;VALUE=DATE-TIME:20240331T030000
TZNAME:CEST
TZOFFSETFROM:+0100
TZOFFSETTO:+0200
END:DAYLIGHT
END:VTIMEZONE
END:VCALENDAR
